BEGIN:VCALENDAR
VERSION:2.0
PRODID:-//Cech obkladačů - ECPv6.2.6.1//NONSGML v1.0//EN
CALSCALE:GREGORIAN
METHOD:PUBLISH
X-WR-CALNAME:Cech obkladačů
X-ORIGINAL-URL:https://www.cech-obkladacu.cz
X-WR-CALDESC:Akce na Cech obkladačů
REFRESH-INTERVAL;VALUE=DURATION:PT1H
X-Robots-Tag:noindex
X-PUBLISHED-TTL:PT1H
BEGIN:VTIMEZONE
TZID:Europe/Prague
BEGIN:DAYLIGHT
TZOFFSETFROM:+0100
TZOFFSETTO:+0200
TZNAME:CEST
DTSTART:20240331T010000
END:DAYLIGHT
BEGIN:STANDARD
TZOFFSETFROM:+0200
TZOFFSETTO:+0100
TZNAME:CET
DTSTART:20241027T010000
END:STANDARD
BEGIN:DAYLIGHT
TZOFFSETFROM:+0100
TZOFFSETTO:+0200
TZNAME:CEST
DTSTART:20250330T010000
END:DAYLIGHT
BEGIN:STANDARD
TZOFFSETFROM:+0200
TZOFFSETTO:+0100
TZNAME:CET
DTSTART:20251026T010000
END:STANDARD
END:VTIMEZONE
BEGIN:VEVENT
DTSTART;TZID=Europe/Prague:20251125T090000
DTEND;TZID=Europe/Prague:20251125T150000
DTSTAMP:20260424T145707
CREATED:20251023T113034Z
LAST-MODIFIED:20251023T113034Z
UID:6092-1764061200-1764082800@www.cech-obkladacu.cz
SUMMARY:ŠKOLENÍ K TÉMATU:  MONTÁŽ ODTOKOVÝCH ŽLABŮ A VELKOFORMÁTOVÉ  KERAMIKY VE SPRCHOVÉM KOUTU
DESCRIPTION:Cech obkladačů ČR vás zve na školení k tématu:\nMontáž odtokových žlabů a velkoformátové keramiky ve sprchovém koutu.\nKdy: 25. listopadu 2025 v 9:00 – 15:00 hod.\nKde: Školící centrum Sika CZ\, s.r.o.\, Tovární 868\, 537 01 Chrudim\nKapacita: max. 50 osob \nPřihlášení do: 16. 11. 2025 na e-mail: reditel@cech-obkladacu.cz\nPřihláška je platná po uhrazení účastnického poplatku \nCelá pozvánka a více informací ZDE….
URL:https://www.cech-obkladacu.cz/udalost/skoleni-k-tematu-montaz-odtokovych-zlabu-a-velkoformatove-keramiky-ve-sprchovem-koutu/
LOCATION:Školící centrum Sika CZ\, s.r.o.\, Tovární 868\, 537 01 Chrud
ATTACH;FMTTYPE=image/jpeg:https://www.cech-obkladacu.cz/files/uploads/2025/10/Sika_Pozvanka-Cech-Obkladaci_202510_01.jpg
ORGANIZER;CN="Cech obklada%C4%8D%C5%AF":MAILTO:reditel@cech-obkladacu.cz
END:VEVENT
BEGIN:VEVENT
DTSTART;TZID=Europe/Prague:20250429T090000
DTEND;TZID=Europe/Prague:20250429T150000
DTSTAMP:20260424T145707
CREATED:20250306T114516Z
LAST-MODIFIED:20250306T114516Z
UID:5855-1745917200-1745938800@www.cech-obkladacu.cz
SUMMARY:Profesionální školení Velkoformátové keramiky XXL Rozměry: 120×278 / 120/120 / 100×100 /120×60
DESCRIPTION:Datum konání: 29. 04. 2025\nLektor: Tomáš Kalný-TKinterior\nStart: 9:00 – 15:00\n\nMísto: STŘEDNÍ ODBORNÁ ŠKOLA JAROV Učňovská 100/1\, 190 00 Praha 9 – velký sál\n\n\n\n\n\n\nUkázka BAT NÁŘADÍ nářadí – Nejnovější modely pro obkládání velkoformátové keramiky a její příslušenství.\n\n\nTomáš Kalný TKinterior – Ukázka nošení\, řezání\, broušení\, leštění\, děrování velkoformátové keramiky. Řezání a broušení JOLLY hran\, zakončení dlažby do úhlu 45 – stupňů. Výroba pultů z velkoformátové keramiky a její použití. Spárování a modelování JOLLY hran epoxidem. Ukázka vyrobeného nábytku na míru z velkoformátové keramiky.\n\n\nPřednášky a workshop = BAT NÁŘADÍ\, MUREXIN – stavební chemie\, Kerakoll-systems\, PCI-SikaCZ\, RAKO\, Schluter-systems – ukázka modulu keramického umyvadla z velkoformátové keramiky\, kompletní systémy a vychytávky.\n\n\nEduard Justa – technické poradenství – normy Cech obkladačů ČR.\n\n\nVíce informací v pozvánce zde…..
URL:https://www.cech-obkladacu.cz/udalost/profesionalni-skoleni-velkoformatove-keramiky-xxl-rozmery-120x278-120-120-100x100-120x60/
LOCATION:STŘEDNÍ ODBORNÁ ŠKOLA JAROV Učňovská 100/1\, 190 00 Praha 9
ATTACH;FMTTYPE=image/jpeg:https://www.cech-obkladacu.cz/files/uploads/2025/03/Pozvanka-Cech.jpg
ORGANIZER;CN="Cech obklada%C4%8D%C5%AF":MAILTO:reditel@cech-obkladacu.cz
END:VEVENT
BEGIN:VEVENT
DTSTART;TZID=Europe/Prague:20241114T090000
DTEND;TZID=Europe/Prague:20241114T153000
DTSTAMP:20260424T145707
CREATED:20241016T185425Z
LAST-MODIFIED:20241107T140121Z
UID:5712-1731574800-1731598200@www.cech-obkladacu.cz
SUMMARY:PRAKTICKÉ ŘEŠENÍ INSTALACE SPRCHOVÝCH ŽLABŮ VIEGA\, PROBLEMATIKA HYDROIZOLACÍ V INTERIÉRU A MODERNÍ STAVEBNÍ CHEMIE SIKA-PCI - ZRUŠENO
DESCRIPTION:POZVÁNKA \nPod záštitou Cechu obkladačů ve spolupráci s firmami VIEGA a PCI-Sika si Vás dovolujeme pozvat na seminář: \nPRAKTICKÉ ŘEŠENÍ INSTALACE SPRCHOVÝCH ŽLABŮ VIEGA\, PROBLEMATIKA HYDROIZOLACÍ V INTERIÉRU A MODERNÍ STAVEBNÍ CHEMIE SIKA-PCI \nDatum konání: 14. 11. 2024\nMísto konání: Hrušovská 13/2969 702 00 Ostrava – Viega seminární centrum\nHarmonogram semináře: \n09:00 – 11:15 1. blok Viega\n09:00 – 09:10 Představení společnosti Viega\n09:10 – 09:30 Představení stenového sprchového žľabu Advantix Vario a Advantix Cleviva\n09:30 – 10:45 Montážní postupy sprchových žlabů\, časté chyby při montáži a jejich následky.\n10:45 – 11:15 Praktická ukázka montáže žlabů\, možnosti suché montáže žlabu\n11:15 – 11:30 Proč řešíme hydroizolace (Cech obkladačů) \n11:30 – 12:30 Oběd – formou cateringu \n12:30 – 15:00 2. blok Sika PCI\n12:30 – 12:45 Představení společnosti Sika a značky PCI\n12:45 – 13:45 Montáž keramických obkladů a dlažeb na problematické podklady\n(dřevo\, sádra apod)\nNapojování hydroizolací na kovové a plastové prvky\nKladení velkoformátů na podlahy bez dilatačních spár 13:45 – 15:00 Kladení velkoformátů v exteriéru Specifika pro spárování epoxidovými spárovacími hmotami\n15:00 – 15:30 Volná diskuze\, ukončení \nČlen Cechu obkladačů má účast ZDARMA. \nNečlen bude hradit poplatek za účast 890-\, Kč bez DPH.
URL:https://www.cech-obkladacu.cz/udalost/prakticke-reseni-instalace-sprchovych-zlabu-viega-problematika-hydroizolaci-v-interieru-a-moderni-stavebni-chemie-sika-pci/
LOCATION:Hrušovská 13/2969 702 00 Ostrava
ATTACH;FMTTYPE=image/jpeg:https://www.cech-obkladacu.cz/files/uploads/2018/06/cech-obkladacu_aktuality-epoxidova-sparovaci-hmota_02.jpg
ORGANIZER;CN="Cech obklada%C4%8D%C5%AF":MAILTO:reditel@cech-obkladacu.cz
END:VEVENT
END:VCALENDAR